BEGIN:VCALENDAR
VERSION:2.0
PRODID:iCalendar-Evo
X-WR-TIMEZONE:US/Central
BEGIN:VEVENT
DTSTAMP:20260422THI1125Z
URL:https://www.beevilletx.gov/events/42236/
DTSTART;TZID=US/Central:20260307T110000
DTEND;TZID=US/Central:20260307T150000
SUMMARY:Bill Yates Memorial Rocket Launch
DESCRIPTION:Bill Yates Memorial Rocket Launch A Day of Science, Flight and Inspiration Saturday, March 7, 2026 11:00 a.m. – 3:00 p.m. Beeville Municipal Airport Beeville, Texas Backup Date: Saturday, March 14, 2026 (weather permitting) Join us for an exciting day celebrating science and aerospace! This family-friendly event features:  Rocket Launches – Watch rockets soar into the sky Youth Rocket Zone – Hands-on activities for young enthusiasts Rocket Display Booth – See rockets up close and learn how they work Meet Rocket Experts – Talk with professionals in the field STEM Pathway Exploration – Discover educational and career opportunities in science, technology, engineering, and mathematics  Fun for everyone! What to Bring: Lawn chairs and sun shade for your comfort For more information, contact the South Texas Rocketry Group on Facebook We look forward to seeing you there! 
STREET-ADDRESS:3201 US-59
LOCALITY:Beeville
REGION:Texas
POSTAL-CODE:78102
UID:18157110-e6fc-44a7-bda2-f739d2bd9f3620260307T170000@www.beevilletx.gov
END:VEVENT
END:VCALENDAR